BEGIN:VCALENDAR
VERSION:2.0
PRODID:-// - ECPv6.15.20//NONSGML v1.0//EN
CALSCALE:GREGORIAN
METHOD:PUBLISH
X-ORIGINAL-URL:https://akr-berlin.de
X-WR-CALDESC:Veranstaltungen für 
REFRESH-INTERVAL;VALUE=DURATION:PT1H
X-Robots-Tag:noindex
X-PUBLISHED-TTL:PT1H
BEGIN:VTIMEZONE
TZID:Europe/Berlin
BEGIN:DAYLIGHT
TZOFFSETFROM:+0100
TZOFFSETTO:+0200
TZNAME:CEST
DTSTART:20230326T010000
END:DAYLIGHT
BEGIN:STANDARD
TZOFFSETFROM:+0200
TZOFFSETTO:+0100
TZNAME:CET
DTSTART:20231029T010000
END:STANDARD
BEGIN:DAYLIGHT
TZOFFSETFROM:+0100
TZOFFSETTO:+0200
TZNAME:CEST
DTSTART:20240331T010000
END:DAYLIGHT
BEGIN:STANDARD
TZOFFSETFROM:+0200
TZOFFSETTO:+0100
TZNAME:CET
DTSTART:20241027T010000
END:STANDARD
BEGIN:DAYLIGHT
TZOFFSETFROM:+0100
TZOFFSETTO:+0200
TZNAME:CEST
DTSTART:20250330T010000
END:DAYLIGHT
BEGIN:STANDARD
TZOFFSETFROM:+0200
TZOFFSETTO:+0100
TZNAME:CET
DTSTART:20251026T010000
END:STANDARD
BEGIN:DAYLIGHT
TZOFFSETFROM:+0100
TZOFFSETTO:+0200
TZNAME:CEST
DTSTART:20260329T010000
END:DAYLIGHT
BEGIN:STANDARD
TZOFFSETFROM:+0200
TZOFFSETTO:+0100
TZNAME:CET
DTSTART:20261025T010000
END:STANDARD
BEGIN:DAYLIGHT
TZOFFSETFROM:+0100
TZOFFSETTO:+0200
TZNAME:CEST
DTSTART:20270328T010000
END:DAYLIGHT
BEGIN:STANDARD
TZOFFSETFROM:+0200
TZOFFSETTO:+0100
TZNAME:CET
DTSTART:20271031T010000
END:STANDARD
END:VTIMEZONE
BEGIN:VEVENT
DTSTART;TZID=Europe/Berlin:20260119T180000
DTEND;TZID=Europe/Berlin:20260119T200000
DTSTAMP:20260421T132945
CREATED:20251012T132714Z
LAST-MODIFIED:20260118T152848Z
UID:820-1768845600-1768852800@akr-berlin.de
SUMMARY:Delegiertenversammlung
DESCRIPTION:
URL:https://akr-berlin.de/event/delegiertenversammlung-4/
LOCATION:St.-Michaels-Heim\, Bismarckallee 23\, Berlin\, 14193\, Deutschland
CATEGORIES:Delegiertenversammlung
END:VEVENT
BEGIN:VEVENT
DTSTART;TZID=Europe/Berlin:20251115T140000
DTEND;TZID=Europe/Berlin:20251115T170000
DTSTAMP:20260421T132945
CREATED:20251012T132508Z
LAST-MODIFIED:20251012T132831Z
UID:817-1763215200-1763226000@akr-berlin.de
SUMMARY:Workshop
DESCRIPTION:Thema: „Beiträge der Religionen zur Bewältigung der Krisen in Europa und der Welt“ \nAlle Delegierten & ihre interessierten Gemeinde-Mitglieder sind hierzu herzlichst eingeladen. \nAnmeldeschluss ist der 01.11.2025
URL:https://akr-berlin.de/event/workshop/
LOCATION:ufa-Fabrik\, Viktoriastr. 10-18\, Berlin\, Viktoriastr. 10-18\, Berlin\, Germany
CATEGORIES:Workshop
END:VEVENT
BEGIN:VEVENT
DTSTART;TZID=Europe/Berlin:20250401T190000
DTEND;TZID=Europe/Berlin:20250401T210000
DTSTAMP:20260421T132945
CREATED:20250318T193024Z
LAST-MODIFIED:20250318T193024Z
UID:740-1743534000-1743541200@akr-berlin.de
SUMMARY:Delegiertenversammlung
DESCRIPTION:
URL:https://akr-berlin.de/event/delegiertenversammlung-3/
LOCATION:Erste Kirche Christi\, Wissenschafter\, Berlin\, Wilhelmsaue 112\, Berlin\, 10715
CATEGORIES:Delegiertenversammlung
END:VEVENT
BEGIN:VEVENT
DTSTART;TZID=Europe/Berlin:20250123T190000
DTEND;TZID=Europe/Berlin:20250123T210000
DTSTAMP:20260421T132945
CREATED:20250107T200513Z
LAST-MODIFIED:20250107T200522Z
UID:716-1737658800-1737666000@akr-berlin.de
SUMMARY:Delegiertenversammlung
DESCRIPTION:Der Vorstand lädt zur nächsten Delegiertenversammlung ein. \nOrt: Planckstraße 20\, 10117 Berlin
URL:https://akr-berlin.de/event/delegiertenversammlung-2/
LOCATION:Berlin
CATEGORIES:Delegiertenversammlung
END:VEVENT
BEGIN:VEVENT
DTSTART;VALUE=DATE:20240907
DTEND;VALUE=DATE:20240909
DTSTAMP:20260421T132945
CREATED:20240707T150347Z
LAST-MODIFIED:20240707T150507Z
UID:658-1725667200-1725839999@akr-berlin.de
SUMMARY:Lange Nacht der Religionen
DESCRIPTION:Zur 13. Langen Nacht der Religionen in Berlin öffnen am 7. und 8. September 2024 viele Religionen und Glaubensgemeinschaften wieder ihre Türen und laden Interessierte zu Gesprächen\, Musik oder Meditation ein. \nEine Übersicht über Programm und Gemeinschaften gibt es unter www.nachtderreligionen.de
URL:https://akr-berlin.de/event/lange-nacht-der-religionen/
LOCATION:Berlin
CATEGORIES:Nacht der Religionen
END:VEVENT
BEGIN:VEVENT
DTSTART;TZID=Europe/Berlin:20240711T190000
DTEND;TZID=Europe/Berlin:20240711T210000
DTSTAMP:20260421T132945
CREATED:20240611T194752Z
LAST-MODIFIED:20240707T145551Z
UID:627-1720724400-1720731600@akr-berlin.de
SUMMARY:Delegiertenversammlung
DESCRIPTION:Zur nächsten Delegiertenversammlung werden alle Delegierten und Interessierte herzlich vom Vorstand in die Kirche Jesu Christi der Heiligen der letzten Tage\, Klingelhöferstr. 24\, 10785 Berlin\, eingeladen.
URL:https://akr-berlin.de/event/delegiertenversammlung/
LOCATION:Kirche Jesu Christi der Heiligen der letzten Tage\, Klingelhöfer Str. 24\, Berlin\, 10785\, Deutschland
CATEGORIES:Delegiertenversammlung
END:VEVENT
END:VCALENDAR