BEGIN:VCALENDAR
VERSION:2.0
PRODID:-// - ECPv6.15.20//NONSGML v1.0//EN
CALSCALE:GREGORIAN
METHOD:PUBLISH
X-ORIGINAL-URL:https://akr-berlin.de
X-WR-CALDESC:Veranstaltungen für 
REFRESH-INTERVAL;VALUE=DURATION:PT1H
X-Robots-Tag:noindex
X-PUBLISHED-TTL:PT1H
BEGIN:VTIMEZONE
TZID:Europe/Berlin
BEGIN:DAYLIGHT
TZOFFSETFROM:+0100
TZOFFSETTO:+0200
TZNAME:CEST
DTSTART:20230326T010000
END:DAYLIGHT
BEGIN:STANDARD
TZOFFSETFROM:+0200
TZOFFSETTO:+0100
TZNAME:CET
DTSTART:20231029T010000
END:STANDARD
BEGIN:DAYLIGHT
TZOFFSETFROM:+0100
TZOFFSETTO:+0200
TZNAME:CEST
DTSTART:20240331T010000
END:DAYLIGHT
BEGIN:STANDARD
TZOFFSETFROM:+0200
TZOFFSETTO:+0100
TZNAME:CET
DTSTART:20241027T010000
END:STANDARD
BEGIN:DAYLIGHT
TZOFFSETFROM:+0100
TZOFFSETTO:+0200
TZNAME:CEST
DTSTART:20250330T010000
END:DAYLIGHT
BEGIN:STANDARD
TZOFFSETFROM:+0200
TZOFFSETTO:+0100
TZNAME:CET
DTSTART:20251026T010000
END:STANDARD
END:VTIMEZONE
BEGIN:VEVENT
DTSTART;TZID=Europe/Berlin:20240711T190000
DTEND;TZID=Europe/Berlin:20240711T210000
DTSTAMP:20260424T232508
CREATED:20240611T194752Z
LAST-MODIFIED:20240707T145551Z
UID:627-1720724400-1720731600@akr-berlin.de
SUMMARY:Delegiertenversammlung
DESCRIPTION:Zur nächsten Delegiertenversammlung werden alle Delegierten und Interessierte herzlich vom Vorstand in die Kirche Jesu Christi der Heiligen der letzten Tage\, Klingelhöferstr. 24\, 10785 Berlin\, eingeladen.
URL:https://akr-berlin.de/event/delegiertenversammlung/
LOCATION:Kirche Jesu Christi der Heiligen der letzten Tage\, Klingelhöfer Str. 24\, Berlin\, 10785\, Deutschland
CATEGORIES:Delegiertenversammlung
END:VEVENT
END:VCALENDAR